BEGIN:VCALENDAR
VERSION:2.0
PRODID:-//Platte County Dems - ECPv6.15.20//NONSGML v1.0//EN
CALSCALE:GREGORIAN
METHOD:PUBLISH
X-ORIGINAL-URL:https://plattedems.org
X-WR-CALDESC:Events for Platte County Dems
REFRESH-INTERVAL;VALUE=DURATION:PT1H
X-Robots-Tag:noindex
X-PUBLISHED-TTL:PT1H
BEGIN:VTIMEZONE
TZID:America/Chicago
BEGIN:DAYLIGHT
TZOFFSETFROM:-0600
TZOFFSETTO:-0500
TZNAME:CDT
DTSTART:20230312T080000
END:DAYLIGHT
BEGIN:STANDARD
TZOFFSETFROM:-0500
TZOFFSETTO:-0600
TZNAME:CST
DTSTART:20231105T070000
END:STANDARD
BEGIN:DAYLIGHT
TZOFFSETFROM:-0600
TZOFFSETTO:-0500
TZNAME:CDT
DTSTART:20240310T080000
END:DAYLIGHT
BEGIN:STANDARD
TZOFFSETFROM:-0500
TZOFFSETTO:-0600
TZNAME:CST
DTSTART:20241103T070000
END:STANDARD
BEGIN:DAYLIGHT
TZOFFSETFROM:-0600
TZOFFSETTO:-0500
TZNAME:CDT
DTSTART:20250309T080000
END:DAYLIGHT
BEGIN:STANDARD
TZOFFSETFROM:-0500
TZOFFSETTO:-0600
TZNAME:CST
DTSTART:20251102T070000
END:STANDARD
END:VTIMEZONE
BEGIN:VEVENT
DTSTART;TZID=America/Chicago:20240416T183000
DTEND;TZID=America/Chicago:20240416T200000
DTSTAMP:20260421T111407
CREATED:20240405T154649Z
LAST-MODIFIED:20240915T145557Z
UID:4763-1713292200-1713297600@plattedems.org
SUMMARY:Northland Democratic Club
DESCRIPTION:6:30 pm social.  7:00 monthly meeting.
URL:https://plattedems.org/event/northland-democratic-club-4/
LOCATION:ACA Business Club\, 1400 NW Vivion Road\, Kansas City\, MO\, 64118
CATEGORIES:Meeting
END:VEVENT
BEGIN:VEVENT
DTSTART;TZID=America/Chicago:20240408T183000
DTEND;TZID=America/Chicago:20240408T200000
DTSTAMP:20260421T111407
CREATED:20240405T154538Z
LAST-MODIFIED:20240915T145556Z
UID:4761-1712601000-1712606400@plattedems.org
SUMMARY:Platte County Federated Women’s Democratic Club
DESCRIPTION:Monthly meeting.  6:30 pm.
URL:https://plattedems.org/event/platte-county-federated-womens-democratic-club-5/
LOCATION:North Patrol Police Station\, 11000 NW Prairie View Rd\, Kansas City\, MO\, 64153\, United States
CATEGORIES:Meeting
END:VEVENT
BEGIN:VEVENT
DTSTART;TZID=America/Chicago:20240330T160000
DTEND;TZID=America/Chicago:20240330T180000
DTSTAMP:20260421T111407
CREATED:20240307T220243Z
LAST-MODIFIED:20240915T145120Z
UID:4722-1711814400-1711821600@plattedems.org
SUMMARY:Platte County Democratic Women (North and South)
DESCRIPTION:Sweets auction.  4:00 – 6:00 pm.  Harper Haus\, 200 Main St\, Platte City.
URL:https://plattedems.org/event/platte-county-democratic-women-north-and-south/
LOCATION:MO
CATEGORIES:Meeting
END:VEVENT
BEGIN:VEVENT
DTSTART;TZID=America/Chicago:20240319T183000
DTEND;TZID=America/Chicago:20240319T200000
DTSTAMP:20260421T111407
CREATED:20240307T215851Z
LAST-MODIFIED:20240915T145120Z
UID:4720-1710873000-1710878400@plattedems.org
SUMMARY:Northland Democratic Club
DESCRIPTION:Monthly meeting.  6:30 pm social\, 7:00 pm meeting.
URL:https://plattedems.org/event/northland-democratic-club-3/
LOCATION:ACA Business Club\, 1400 NW Vivion Road\, Kansas City\, MO\, 64118
CATEGORIES:Meeting
END:VEVENT
BEGIN:VEVENT
DTSTART;TZID=America/Chicago:20240314T190000
DTEND;TZID=America/Chicago:20240314T200000
DTSTAMP:20260421T111407
CREATED:20240307T215736Z
LAST-MODIFIED:20240915T145119Z
UID:4718-1710442800-1710446400@plattedems.org
SUMMARY:Platte County Democratic Central Committee
DESCRIPTION:NOTE: this is a change of date from March 21.  Monthly meeting.  7:00 pm.
URL:https://plattedems.org/event/platte-county-democratic-central-committee-4/
LOCATION:North Patrol Police Station\, 11000 NW Prairie View Rd\, Kansas City\, MO\, 64153\, United States
CATEGORIES:Meeting
END:VEVENT
BEGIN:VEVENT
DTSTART;TZID=America/Chicago:20240311T183000
DTEND;TZID=America/Chicago:20240311T200000
DTSTAMP:20260421T111407
CREATED:20240307T215628Z
LAST-MODIFIED:20240915T145119Z
UID:4716-1710181800-1710187200@plattedems.org
SUMMARY:Platte County Federated Women’s Democratic Club
DESCRIPTION:Monthly meeting.  6:30 pm.
URL:https://plattedems.org/event/platte-county-federated-womens-democratic-club-4/
LOCATION:North Patrol Police Station\, 11000 NW Prairie View Rd\, Kansas City\, MO\, 64153\, United States
CATEGORIES:Meeting
END:VEVENT
BEGIN:VEVENT
DTSTART;TZID=America/Chicago:20240220T190000
DTEND;TZID=America/Chicago:20240220T203000
DTSTAMP:20260421T111407
CREATED:20240204T211128Z
LAST-MODIFIED:20240915T145119Z
UID:4677-1708455600-1708461000@plattedems.org
SUMMARY:Northland Democratic Club
DESCRIPTION:Monthly meeting.  6:30 pm social\, 7:00 pm meeting.
URL:https://plattedems.org/event/northland-democratic-club-2/
LOCATION:ACA Business Club\, 1400 NW Vivion Road\, Kansas City\, MO\, 64118
CATEGORIES:Meeting
END:VEVENT
BEGIN:VEVENT
DTSTART;TZID=America/Chicago:20240215T190000
DTEND;TZID=America/Chicago:20240215T203000
DTSTAMP:20260421T111407
CREATED:20240204T211337Z
LAST-MODIFIED:20240915T145119Z
UID:4679-1708023600-1708029000@plattedems.org
SUMMARY:Platte County Democratic Central Committee
DESCRIPTION:Monthly meeting.  7:00 pm.
URL:https://plattedems.org/event/platte-county-democratic-central-committee-3/
LOCATION:North Patrol Police Station\, 11000 NW Prairie View Rd\, Kansas City\, MO\, 64153\, United States
CATEGORIES:Meeting
END:VEVENT
BEGIN:VEVENT
DTSTART;TZID=America/Chicago:20240212T183000
DTEND;TZID=America/Chicago:20240212T200000
DTSTAMP:20260421T111407
CREATED:20240204T210654Z
LAST-MODIFIED:20240915T145119Z
UID:4675-1707762600-1707768000@plattedems.org
SUMMARY:Platte County Federated Women’s Democratic Club
DESCRIPTION:Monthly meeting.  6:30 pm.
URL:https://plattedems.org/event/platte-county-federated-womens-democratic-club-3/
LOCATION:North Patrol Police Station\, 11000 NW Prairie View Rd\, Kansas City\, MO\, 64153\, United States
CATEGORIES:Meeting
END:VEVENT
BEGIN:VEVENT
DTSTART;TZID=America/Chicago:20240123T183000
DTEND;TZID=America/Chicago:20240123T200000
DTSTAMP:20260421T111407
CREATED:20231201T162916Z
LAST-MODIFIED:20240915T145119Z
UID:4608-1706034600-1706040000@plattedems.org
SUMMARY:Northland Democratic Club
DESCRIPTION:Date changed\, this month only. Monthly meeting.  6:30 social\, 7:00 meeting.
URL:https://plattedems.org/event/northland-democratic-club/
LOCATION:ACA Business Club\, 1400 NW Vivion Road\, Kansas City\, MO\, 64118
CATEGORIES:Meeting
END:VEVENT
BEGIN:VEVENT
DTSTART;TZID=America/Chicago:20240118T190000
DTEND;TZID=America/Chicago:20240118T203000
DTSTAMP:20260421T111407
CREATED:20231201T162510Z
LAST-MODIFIED:20240915T145119Z
UID:4604-1705604400-1705609800@plattedems.org
SUMMARY:Platte County Democratic Central Committee
DESCRIPTION:Monthly meeting.  7:00 pm.
URL:https://plattedems.org/event/platte-county-democratic-central-committee-2/
LOCATION:North Patrol Police Station\, 11000 NW Prairie View Rd\, Kansas City\, MO\, 64153\, United States
CATEGORIES:Meeting
END:VEVENT
BEGIN:VEVENT
DTSTART;TZID=America/Chicago:20240108T183000
DTEND;TZID=America/Chicago:20240108T200000
DTSTAMP:20260421T111407
CREATED:20231201T162806Z
LAST-MODIFIED:20240915T145119Z
UID:4606-1704738600-1704744000@plattedems.org
SUMMARY:Platte County Federated Women’s Democratic Club
DESCRIPTION:Monthly meeting.  6:30 pm. \nVenue change this month only to Green Hills Library\, 8581 N Green Hills Rd\, Kansas City
URL:https://plattedems.org/event/platte-county-federated-womens-democratic-club-2/
LOCATION:North Patrol Police Station\, 11000 NW Prairie View Rd\, Kansas City\, MO\, 64153\, United States
CATEGORIES:Meeting
END:VEVENT
END:VCALENDAR