BEGIN:VCALENDAR
VERSION:2.0
PRODID:-//Platte County Dems - ECPv6.15.20//NONSGML v1.0//EN
CALSCALE:GREGORIAN
METHOD:PUBLISH
X-WR-CALNAME:Platte County Dems
X-ORIGINAL-URL:https://plattedems.org
X-WR-CALDESC:Events for Platte County Dems
REFRESH-INTERVAL;VALUE=DURATION:PT1H
X-Robots-Tag:noindex
X-PUBLISHED-TTL:PT1H
BEGIN:VTIMEZONE
TZID:America/Chicago
BEGIN:DAYLIGHT
TZOFFSETFROM:-0600
TZOFFSETTO:-0500
TZNAME:CDT
DTSTART:20230312T080000
END:DAYLIGHT
BEGIN:STANDARD
TZOFFSETFROM:-0500
TZOFFSETTO:-0600
TZNAME:CST
DTSTART:20231105T070000
END:STANDARD
BEGIN:DAYLIGHT
TZOFFSETFROM:-0600
TZOFFSETTO:-0500
TZNAME:CDT
DTSTART:20240310T080000
END:DAYLIGHT
BEGIN:STANDARD
TZOFFSETFROM:-0500
TZOFFSETTO:-0600
TZNAME:CST
DTSTART:20241103T070000
END:STANDARD
BEGIN:DAYLIGHT
TZOFFSETFROM:-0600
TZOFFSETTO:-0500
TZNAME:CDT
DTSTART:20250309T080000
END:DAYLIGHT
BEGIN:STANDARD
TZOFFSETFROM:-0500
TZOFFSETTO:-0600
TZNAME:CST
DTSTART:20251102T070000
END:STANDARD
BEGIN:DAYLIGHT
TZOFFSETFROM:-0600
TZOFFSETTO:-0500
TZNAME:CDT
DTSTART:20260308T080000
END:DAYLIGHT
BEGIN:STANDARD
TZOFFSETFROM:-0500
TZOFFSETTO:-0600
TZNAME:CST
DTSTART:20261101T070000
END:STANDARD
END:VTIMEZONE
BEGIN:VEVENT
DTSTART;TZID=America/Chicago:20250415T183000
DTEND;TZID=America/Chicago:20250415T203000
DTSTAMP:20260421T051236
CREATED:20241217T233504Z
LAST-MODIFIED:20241217T233506Z
UID:7528-1744741800-1744749000@plattedems.org
SUMMARY:Northland Democratic Club Meeting
DESCRIPTION:The Northland Democratic Club is a place for Clay and Platte County Democrats to come together to support candidates and issues.
URL:https://plattedems.org/event/northland-democratic-club-meeting-6/
LOCATION:ACA Business Club\, 1400 NW Vivion Road\, Kansas City\, Missouri\, 64118
CATEGORIES:Meeting
ATTACH;FMTTYPE=image/png:https://plattedems.org/wp-content/uploads/2024/04/NDC.png
END:VEVENT
BEGIN:VEVENT
DTSTART;TZID=America/Chicago:20250414T183000
DTEND;TZID=America/Chicago:20250414T193000
DTSTAMP:20260421T051237
CREATED:20241217T230129Z
LAST-MODIFIED:20250311T162239Z
UID:7478-1744655400-1744659000@plattedems.org
SUMMARY:Platte County Democratic Women's Meeting
DESCRIPTION:The Platte County Federated Women’s Democratic Club meets the second Monday of the month. Their mission is to support and elect Democratic candidates and issues. You do not have to be a member to attend.
URL:https://plattedems.org/event/platte-county-democratic-womens-meeting-4/
CATEGORIES:Meeting
ATTACH;FMTTYPE=image/jpeg:https://plattedems.org/wp-content/uploads/2024/09/platte-county-federated-womens-democratic-club-logo-1.jpg
END:VEVENT
BEGIN:VEVENT
DTSTART;TZID=America/Chicago:20250320T190000
DTEND;TZID=America/Chicago:20250320T203000
DTSTAMP:20260421T051237
CREATED:20241217T232507Z
LAST-MODIFIED:20250305T173934Z
UID:7504-1742497200-1742502600@plattedems.org
SUMMARY:PCDCC Meeting
DESCRIPTION:The Platte County Democratic Central Committee meets the third Thursday of the month. The group’s mission is to work for the success of the Democratic Party.
URL:https://plattedems.org/event/pcdcc-meeting-4/
CATEGORIES:Meeting
ATTACH;FMTTYPE=image/jpeg:https://plattedems.org/wp-content/uploads/2020/03/PCDCC-round-logo-2color-210-x-210.jpg
END:VEVENT
BEGIN:VEVENT
DTSTART;TZID=America/Chicago:20250318T183000
DTEND;TZID=America/Chicago:20250318T203000
DTSTAMP:20260421T051237
CREATED:20241217T233430Z
LAST-MODIFIED:20241217T233432Z
UID:7526-1742322600-1742329800@plattedems.org
SUMMARY:Northland Democratic Club Meeting
DESCRIPTION:The Northland Democratic Club is a place for Clay and Platte County Democrats to come together to support candidates and issues.
URL:https://plattedems.org/event/northland-democratic-club-meeting-5/
LOCATION:ACA Business Club\, 1400 NW Vivion Road\, Kansas City\, Missouri\, 64118
CATEGORIES:Meeting
ATTACH;FMTTYPE=image/png:https://plattedems.org/wp-content/uploads/2024/04/NDC.png
END:VEVENT
BEGIN:VEVENT
DTSTART;TZID=America/Chicago:20250310T183000
DTEND;TZID=America/Chicago:20250310T193000
DTSTAMP:20260421T051237
CREATED:20241217T230030Z
LAST-MODIFIED:20250228T134137Z
UID:7476-1741631400-1741635000@plattedems.org
SUMMARY:Platte County Democratic Women's Meeting
DESCRIPTION:The Platte County Federated Women’s Democratic Club meets the second Monday of the month. Their mission is to support and elect Democratic candidates and issues. You do not have to be a member to attend.  \n\n\n\nThe focus for this meeting: Preparations for the 2nd Annual Spring Sweets Auction.
URL:https://plattedems.org/event/platte-county-democratic-womens-meeting-3/
LOCATION:Pizza Shoppe\, 7687 NW Prairie View Rd\, Kansas City\, MO 64151\, Kansas City\, Missouri\, 64151\, United States
CATEGORIES:Meeting
ATTACH;FMTTYPE=image/jpeg:https://plattedems.org/wp-content/uploads/2024/09/platte-county-federated-womens-democratic-club-logo-1.jpg
END:VEVENT
BEGIN:VEVENT
DTSTART;TZID=America/Chicago:20250227T190000
DTEND;TZID=America/Chicago:20250227T203000
DTSTAMP:20260421T051237
CREATED:20241217T232420Z
LAST-MODIFIED:20250219T231205Z
UID:7502-1740682800-1740688200@plattedems.org
SUMMARY:PCDCC Meeting - NEW DATE!
DESCRIPTION:The Platte County Democratic Central Committee meets the third Thursday of the month. The group’s mission is to work for the success of the Democratic Party.
URL:https://plattedems.org/event/pcdcc-meeting-3/
CATEGORIES:Meeting
ATTACH;FMTTYPE=image/jpeg:https://plattedems.org/wp-content/uploads/2020/03/PCDCC-round-logo-2color-210-x-210.jpg
ORGANIZER;CN="Platte County Democratic Central Committee":MAILTO:dems@plattedems.org
END:VEVENT
BEGIN:VEVENT
DTSTART;TZID=America/Chicago:20250225T183000
DTEND;TZID=America/Chicago:20250225T203000
DTSTAMP:20260421T051237
CREATED:20241217T233335Z
LAST-MODIFIED:20250219T231509Z
UID:7524-1740508200-1740515400@plattedems.org
SUMMARY:Northland Democratic Club Meeting - NEW DATE!
DESCRIPTION:The Northland Democratic Club is a place for Clay and Platte County Democrats to come together to support candidates and issues.
URL:https://plattedems.org/event/northland-democratic-club-meeting-4/
LOCATION:ACA Business Club\, 1400 NW Vivion Road\, Kansas City\, Missouri\, 64118
CATEGORIES:Meeting
ATTACH;FMTTYPE=image/png:https://plattedems.org/wp-content/uploads/2024/04/NDC.png
END:VEVENT
BEGIN:VEVENT
DTSTART;TZID=America/Chicago:20250211T190000
DTEND;TZID=America/Chicago:20250211T200000
DTSTAMP:20260421T051237
CREATED:20241217T234329Z
LAST-MODIFIED:20241217T234330Z
UID:7547-1739300400-1739304000@plattedems.org
SUMMARY:North Platte Democratic Women's Meeting
DESCRIPTION:The Democratic Women’s Coalition for Northern Platte County meets the second Tuesday of the month. They are a grassroots organization that supports political awareness by promoting acceptance and equality through education. Open to all.
URL:https://plattedems.org/event/north-platte-democratic-womens-meeting-3/
LOCATION:Weston Cafe\, 413 Main Street\, Weston\, Missouri
CATEGORIES:Meeting
ATTACH;FMTTYPE=image/jpeg:https://plattedems.org/wp-content/uploads/2024/09/dwc-northern-platte.jpg
END:VEVENT
BEGIN:VEVENT
DTSTART;TZID=America/Chicago:20250210T183000
DTEND;TZID=America/Chicago:20250210T193000
DTSTAMP:20260421T051237
CREATED:20241217T225924Z
LAST-MODIFIED:20241217T225925Z
UID:7474-1739212200-1739215800@plattedems.org
SUMMARY:Platte County Democratic Women's Meeting
DESCRIPTION:The Platte County Federated Women’s Democratic Club meets the second Monday of the month. Their mission is to support and elect Democratic candidates and issues. You do not have to be a member to attend.  \n\n\n\nVenue to be announced.
URL:https://plattedems.org/event/platte-county-democratic-womens-meeting-2/
CATEGORIES:Meeting
ATTACH;FMTTYPE=image/jpeg:https://plattedems.org/wp-content/uploads/2024/09/platte-county-federated-womens-democratic-club-logo-1.jpg
END:VEVENT
BEGIN:VEVENT
DTSTART;TZID=America/Chicago:20250121T183000
DTEND;TZID=America/Chicago:20250121T203000
DTSTAMP:20260421T051237
CREATED:20241217T233250Z
LAST-MODIFIED:20241217T233252Z
UID:7522-1737484200-1737491400@plattedems.org
SUMMARY:Northland Democratic Club Meeting
DESCRIPTION:The Northland Democratic Club is a place for Clay and Platte County Democrats to come together to support candidates and issues.
URL:https://plattedems.org/event/northland-democratic-club-meeting-3/
LOCATION:ACA Business Club\, 1400 NW Vivion Road\, Kansas City\, Missouri\, 64118
CATEGORIES:Meeting
ATTACH;FMTTYPE=image/png:https://plattedems.org/wp-content/uploads/2024/04/NDC.png
END:VEVENT
BEGIN:VEVENT
DTSTART;TZID=America/Chicago:20250116T190000
DTEND;TZID=America/Chicago:20250116T203000
DTSTAMP:20260421T051237
CREATED:20241217T231910Z
LAST-MODIFIED:20241228T162043Z
UID:7497-1737054000-1737059400@plattedems.org
SUMMARY:PCDCC Meeting
DESCRIPTION:The Platte County Democratic Central Committee meets the third Thursday of the month. The group’s mission is to work for the success of the Democratic Party.
URL:https://plattedems.org/event/pcdcc-meeting-2/
CATEGORIES:Meeting
ATTACH;FMTTYPE=image/jpeg:https://plattedems.org/wp-content/uploads/2020/03/PCDCC-round-logo-2color-210-x-210.jpg
END:VEVENT
BEGIN:VEVENT
DTSTART;TZID=America/Chicago:20250114T190000
DTEND;TZID=America/Chicago:20250114T200000
DTSTAMP:20260421T051237
CREATED:20241217T234223Z
LAST-MODIFIED:20241217T234225Z
UID:7545-1736881200-1736884800@plattedems.org
SUMMARY:North Platte Democratic Women's Meeting
DESCRIPTION:The Democratic Women’s Coalition for Northern Platte County meets the second Tuesday of the month. They are a grassroots organization that supports political awareness by promoting acceptance and equality through education. Open to all.
URL:https://plattedems.org/event/north-platte-democratic-womens-meeting-2/
LOCATION:Weston Cafe\, 413 Main Street\, Weston\, Missouri
CATEGORIES:Meeting
ATTACH;FMTTYPE=image/jpeg:https://plattedems.org/wp-content/uploads/2024/09/dwc-northern-platte.jpg
END:VEVENT
BEGIN:VEVENT
DTSTART;TZID=America/Chicago:20250113T183000
DTEND;TZID=America/Chicago:20250113T193000
DTSTAMP:20260421T051237
CREATED:20241125T233303Z
LAST-MODIFIED:20241217T225552Z
UID:7447-1736793000-1736796600@plattedems.org
SUMMARY:Platte County Democratic Women's Meeting
DESCRIPTION:The Platte County Federated Women’s Democratic Club meets the second Monday of the month. Their mission is to support and elect Democratic candidates and issues. You do not have to be a member to attend.
URL:https://plattedems.org/event/platte-county-democratic-womens-meeting/
LOCATION:Pizza Shoppe\, 7687 NW Prairie View Rd\, Kansas City\, MO 64151\, Kansas City\, Missouri\, 64151\, United States
CATEGORIES:Meeting
ATTACH;FMTTYPE=image/jpeg:https://plattedems.org/wp-content/uploads/2024/09/platte-county-federated-womens-democratic-club-logo-1.jpg
END:VEVENT
BEGIN:VEVENT
DTSTART;TZID=America/Chicago:20241219T180000
DTEND;TZID=America/Chicago:20241219T200000
DTSTAMP:20260421T051237
CREATED:20240904T164120Z
LAST-MODIFIED:20241202T155133Z
UID:6017-1734631200-1734638400@plattedems.org
SUMMARY:Our Christmas Party with Santa
DESCRIPTION:This is in lieu of the regular Platte County Democratic Central Committee meeting for this month. BYOB and an appetizer to share. Kids are welcome!
URL:https://plattedems.org/event/christmas-party-with-santa/
LOCATION:Platte County Democrats HQ\, 10012 Ambassador Drive\, Kansas City\, Missouri\, 64153
CATEGORIES:Celebration,Meeting
ATTACH;FMTTYPE=image/jpeg:https://plattedems.org/wp-content/uploads/2024/09/Red-and-Green-Santa-Claus-Meet-and-Greet-Christmas-Event-Poster_20241130_191513_0000.jpg
END:VEVENT
BEGIN:VEVENT
DTSTART;TZID=America/Chicago:20241209T183000
DTEND;TZID=America/Chicago:20241209T193000
DTSTAMP:20260421T051237
CREATED:20240904T135234Z
LAST-MODIFIED:20241015T135728Z
UID:5920-1733769000-1733772600@plattedems.org
SUMMARY:Platte County Democratic Women's Meeting
DESCRIPTION:The Platte County Federated Women’s Democratic Club meets the second Monday of the month. Their mission is to support and elect Democratic candidates and issues. You do not have to be a member to attend.
URL:https://plattedems.org/event/pcfdw-10-14-24/
LOCATION:Platte County Democrats HQ\, 10012 Ambassador Drive\, Kansas City\, Missouri\, 64153
CATEGORIES:Meeting
ATTACH;FMTTYPE=image/jpeg:https://plattedems.org/wp-content/uploads/2024/09/platte-county-federated-womens-democratic-club-logo-1.jpg
END:VEVENT
BEGIN:VEVENT
DTSTART;TZID=America/Chicago:20241121T190000
DTEND;TZID=America/Chicago:20241121T203000
DTSTAMP:20260421T051237
CREATED:20241024T203246Z
LAST-MODIFIED:20241024T203248Z
UID:7391-1732215600-1732221000@plattedems.org
SUMMARY:PCDCC Meeting
DESCRIPTION:The Platte County Democratic Central Committee meets the third Thursday of the month. The group’s mission is to work for the success of the Democratic Party.
URL:https://plattedems.org/event/pcdcc-meeting/
LOCATION:Platte County Democrats HQ\, 10012 Ambassador Drive\, Kansas City\, Missouri\, 64153
CATEGORIES:Meeting
ATTACH;FMTTYPE=image/jpeg:https://plattedems.org/wp-content/uploads/2020/03/PCDCC-round-logo-2color-210-x-210.jpg
ORGANIZER;CN="Platte County Democratic Central Committee":MAILTO:dems@plattedems.org
END:VEVENT
BEGIN:VEVENT
DTSTART;TZID=America/Chicago:20241111T183000
DTEND;TZID=America/Chicago:20241111T193000
DTSTAMP:20260421T051237
CREATED:20241015T135405Z
LAST-MODIFIED:20241015T135406Z
UID:7314-1731349800-1731353400@plattedems.org
SUMMARY:Platte County Democratic Women: No Meeting This Month
DESCRIPTION:Veteran’s Day. No meeting until December.
URL:https://plattedems.org/event/platte-county-democratic-women-no-meeting-this-month/
LOCATION:Platte County Democrats HQ\, 10012 Ambassador Drive\, Kansas City\, Missouri\, 64153
CATEGORIES:Meeting
ATTACH;FMTTYPE=image/jpeg:https://plattedems.org/wp-content/uploads/2024/09/platte-county-federated-womens-democratic-club-logo-1.jpg
END:VEVENT
BEGIN:VEVENT
DTSTART;TZID=America/Chicago:20241017T190000
DTEND;TZID=America/Chicago:20241017T203000
DTSTAMP:20260421T051237
CREATED:20240904T140841Z
LAST-MODIFIED:20240904T140842Z
UID:5927-1729191600-1729197000@plattedems.org
SUMMARY:PCDCC Meeting
DESCRIPTION:The Platte County Democratic Central Committee meets the third Thursday of the month. The group’s mission is to work for the success of the Democratic Party.
URL:https://plattedems.org/event/pcdcc-10-17-24/
LOCATION:Platte County Democrats HQ\, 10012 Ambassador Drive\, Kansas City\, Missouri\, 64153
CATEGORIES:Meeting
ATTACH;FMTTYPE=image/jpeg:https://plattedems.org/wp-content/uploads/2020/03/PCDCC-round-logo-2color-210-x-210.jpg
ORGANIZER;CN="Platte County Democratic Central Committee":MAILTO:dems@plattedems.org
END:VEVENT
BEGIN:VEVENT
DTSTART;TZID=America/Chicago:20241209T190000
DTEND;TZID=America/Chicago:20241209T200000
DTSTAMP:20260421T051237
CREATED:20241125T223544Z
LAST-MODIFIED:20241125T223547Z
UID:7436-1733770800-1733774400@plattedems.org
SUMMARY:Voice Your Opinion in a Letter
DESCRIPTION:Let’s get together to write letters to our Senators about the President-Elect’s cabinet choices.
URL:https://plattedems.org/event/voice-your-opinion-in-a-letter/
CATEGORIES:Meeting
ATTACH;FMTTYPE=image/jpeg:https://plattedems.org/wp-content/uploads/2024/11/northland-dems-12-9-24-event.jpg
END:VEVENT
BEGIN:VEVENT
DTSTART;TZID=America/Chicago:20241015T183000
DTEND;TZID=America/Chicago:20241015T203000
DTSTAMP:20260421T051237
CREATED:20240923T161227Z
LAST-MODIFIED:20240923T161227Z
UID:7030-1729017000-1729024200@plattedems.org
SUMMARY:Northland Democratic Club Meeting
DESCRIPTION:The Northland Democratic Club is a place for Clay and Platte County Democrats to come together to support candidates and issues.
URL:https://plattedems.org/event/northland-democratic-club-meeting-2/
LOCATION:ACA Business Club\, 1400 NW Vivion Road\, Kansas City\, Missouri\, 64118
CATEGORIES:Meeting
ATTACH;FMTTYPE=image/png:https://plattedems.org/wp-content/uploads/2024/04/NDC.png
END:VEVENT
BEGIN:VEVENT
DTSTART;TZID=America/Chicago:20241008T183000
DTEND;TZID=America/Chicago:20241008T200000
DTSTAMP:20260421T051237
CREATED:20240904T150344Z
LAST-MODIFIED:20240904T195630Z
UID:5944-1728412200-1728417600@plattedems.org
SUMMARY:WDC Hosts Jess Piper\, "Dirt Road Democrat"
DESCRIPTION:The Women’s Democratic Coalition for North Platte (WDC) hosts an evening with podcaster Jess Piper. Jess is a voice for those who feel like they stand alone in a sea of disparate and extreme policies. After an Arkansas upbringing in a check-to-check household with the church at the center\, Jess worked her way through college and became an English teacher. Now\, Jess\, a mother and grandmother\, makes her home on a small farm in rural northern Missouri. A few years ago\, Jess jumped into politics feet first with a run for office in a district where her candidacy was the first by a Democrat in a generation. Now a podcaster with deep roots in the dirt roads of America\, she serves as a megaphone for rural American women with Democratic leanings.
URL:https://plattedems.org/event/jess-piper-dirt-road-democrat-in-person/
LOCATION:Platte County Democrats HQ\, 10012 Ambassador Drive\, Kansas City\, Missouri\, 64153
CATEGORIES:Meeting
ATTACH;FMTTYPE=image/jpeg:https://plattedems.org/wp-content/uploads/2024/09/jess-piper.jpg
END:VEVENT
BEGIN:VEVENT
DTSTART;TZID=America/Chicago:20240920T100000
DTEND;TZID=America/Chicago:20240920T113000
DTSTAMP:20260421T051237
CREATED:20240904T145229Z
LAST-MODIFIED:20240904T145230Z
UID:5941-1726826400-1726831800@plattedems.org
SUMMARY:Riss Lake Democratic Women's Club Coffee
DESCRIPTION:Join us for coffee and some Democratic organizing. Open to all.
URL:https://plattedems.org/event/riss-lake-democratic-womens-club-coffee/
LOCATION:Platte County Democrats HQ\, 10012 Ambassador Drive\, Kansas City\, Missouri\, 64153
CATEGORIES:Meeting
ATTACH;FMTTYPE=image/jpeg:https://plattedems.org/wp-content/uploads/2024/09/cupcakes-on-a-yellow-plate-5601812-scaled.jpg
END:VEVENT
BEGIN:VEVENT
DTSTART;TZID=America/Chicago:20240919T190000
DTEND;TZID=America/Chicago:20240919T203000
DTSTAMP:20260421T051237
CREATED:20240904T140448Z
LAST-MODIFIED:20240904T140640Z
UID:5922-1726772400-1726777800@plattedems.org
SUMMARY:PCDCC Meeting
DESCRIPTION:The Platte County Democratic Central Committee meets the third Thursday of the month. The group’s mission is to work for the success of the Democratic Party.
URL:https://plattedems.org/event/pcdcc-09-19-24/
LOCATION:Platte County Democrats HQ\, 10012 Ambassador Drive\, Kansas City\, Missouri\, 64153
CATEGORIES:Meeting
ATTACH;FMTTYPE=image/jpeg:https://plattedems.org/wp-content/uploads/2020/03/PCDCC-round-logo-2color-210-x-210.jpg
ORGANIZER;CN="Platte County Democratic Central Committee":MAILTO:dems@plattedems.org
END:VEVENT
BEGIN:VEVENT
DTSTART;TZID=America/Chicago:20240917T183000
DTEND;TZID=America/Chicago:20240917T203000
DTSTAMP:20260421T051237
CREATED:20240904T160316Z
LAST-MODIFIED:20240904T160317Z
UID:5995-1726597800-1726605000@plattedems.org
SUMMARY:Northland Democratic Club Meeting
DESCRIPTION:The Northland Democratic Club is a place for Clay and Platte County Democrats to come together to support candidates and issues.
URL:https://plattedems.org/event/northland-democratic-club-meeting/
LOCATION:ACA Business Club\, 1400 NW Vivion Road\, Kansas City\, Missouri\, 64118
CATEGORIES:Meeting
ATTACH;FMTTYPE=image/png:https://plattedems.org/wp-content/uploads/2024/04/NDC.png
END:VEVENT
BEGIN:VEVENT
DTSTART;TZID=America/Chicago:20240912T173000
DTEND;TZID=America/Chicago:20240912T193000
DTSTAMP:20260421T051237
CREATED:20240904T005658Z
LAST-MODIFIED:20240904T005749Z
UID:5875-1726162200-1726169400@plattedems.org
SUMMARY:How to Raise a Citizen
DESCRIPTION:Join author Lindsey Cormack as she demystifies complex civic knowledge and engages families in American democracy. This American Public Square discussion group event explores Cormack’s newly released book\, How to Raise a Citizen (And why it’s up to you to do it).
URL:https://plattedems.org/event/how-to-raise-a-citizen/
LOCATION:Pine Ridge Presbyterian Church\, 7600 NW Barry Road\, Kansas City\, Missouri\, 64153
CATEGORIES:Meeting
ATTACH;FMTTYPE=image/jpeg:https://plattedems.org/wp-content/uploads/2024/09/How-to-Raise-a-Citizen-Flier.jpg
END:VEVENT
BEGIN:VEVENT
DTSTART;TZID=America/Chicago:20240910T190000
DTEND;TZID=America/Chicago:20240910T200000
DTSTAMP:20260421T051237
CREATED:20240904T155340Z
LAST-MODIFIED:20240904T155341Z
UID:5988-1725994800-1725998400@plattedems.org
SUMMARY:North Platte Democratic Women's Meeting
DESCRIPTION:The Democratic Women’s Coalition for Northern Platte County meets the second Tuesday of the month. They are a grassroots organization that supports political awareness by promoting acceptance and equality through education. Open to all.
URL:https://plattedems.org/event/north-platte-democratic-womens-meeting/
LOCATION:Weston Cafe\, 413 Main Street\, Weston\, Missouri
CATEGORIES:Meeting
ATTACH;FMTTYPE=image/jpeg:https://plattedems.org/wp-content/uploads/2024/09/dwc-northern-platte.jpg
END:VEVENT
BEGIN:VEVENT
DTSTART;TZID=America/Chicago:20240909T183000
DTEND;TZID=America/Chicago:20240909T193000
DTSTAMP:20260421T051237
CREATED:20240904T134546Z
LAST-MODIFIED:20240915T145837Z
UID:5912-1725906600-1725910200@plattedems.org
SUMMARY:South Platte Democratic Women's Meeting
DESCRIPTION:The Platte County Federated Women’s Democratic Club (South) meets the second Monday of the month. Their mission is to support and elect Democratic candidates and issues. You do not have to be a member to attend.
URL:https://plattedems.org/event/pcfdw-09-09-24/
LOCATION:Platte County Democrats HQ\, 10012 Ambassador Drive\, Kansas City\, Missouri\, 64153
CATEGORIES:Meeting
ATTACH;FMTTYPE=image/jpeg:https://plattedems.org/wp-content/uploads/2024/09/platte-county-federated-womens-democratic-club-logo-1.jpg
END:VEVENT
BEGIN:VEVENT
DTSTART;TZID=America/Chicago:20240908T113000
DTEND;TZID=America/Chicago:20240908T123000
DTSTAMP:20260421T051237
CREATED:20240904T010848Z
LAST-MODIFIED:20240904T011148Z
UID:5883-1725795000-1725798600@plattedems.org
SUMMARY:Our Democracy: Use it or Lose It
DESCRIPTION:Yvette Walker\, Kansas City Star opinion editor and head of its editorial board\, co-presents with Bill Tammeus\, writer of the Star’s “Faith Matters” blog. Sponsored by Pine Ridge Presbyterian Mission & Social Justice.
URL:https://plattedems.org/event/our-democracy-use-it-or-lose-it/
LOCATION:Pine Ridge Presbyterian Church\, 7600 NW Barry Road\, Kansas City\, Missouri\, 64153
CATEGORIES:Meeting
ATTACH;FMTTYPE=image/jpeg:https://plattedems.org/wp-content/uploads/2024/09/Our-Democracy-Flyer-updated-1.pdf.jpg
END:VEVENT
BEGIN:VEVENT
DTSTART;TZID=America/Chicago:20240820T183000
DTEND;TZID=America/Chicago:20240820T200000
DTSTAMP:20260421T051237
CREATED:20240805T181317Z
LAST-MODIFIED:20240915T145837Z
UID:4931-1724178600-1724184000@plattedems.org
SUMMARY:Northland Democratic Club
DESCRIPTION:Monthly meeting.  6:30 pm social.  7:00 pm meeting.
URL:https://plattedems.org/event/northland-democratic-club-7/
LOCATION:ACA Business Club\, 1400 NW Vivion Road\, Kansas City\, MO\, 64118
CATEGORIES:Meeting
END:VEVENT
BEGIN:VEVENT
DTSTART;TZID=America/Chicago:20240815T190000
DTEND;TZID=America/Chicago:20240815T203000
DTSTAMP:20260421T051237
CREATED:20240805T181150Z
LAST-MODIFIED:20240915T145557Z
UID:4929-1723748400-1723753800@plattedems.org
SUMMARY:Platte County Democratic Central Committee
DESCRIPTION:Re-organization and monthly meeting.  7:00 pm at Election HQ.
URL:https://plattedems.org/event/platte-county-democratic-central-committee-7/
CATEGORIES:Meeting
END:VEVENT
END:VCALENDAR