BEGIN:VCALENDAR
VERSION:2.0
PRODID:-//Platte County Dems - ECPv6.15.20//NONSGML v1.0//EN
CALSCALE:GREGORIAN
METHOD:PUBLISH
X-ORIGINAL-URL:https://plattedems.org
X-WR-CALDESC:Events for Platte County Dems
REFRESH-INTERVAL;VALUE=DURATION:PT1H
X-Robots-Tag:noindex
X-PUBLISHED-TTL:PT1H
BEGIN:VTIMEZONE
TZID:America/Chicago
BEGIN:DAYLIGHT
TZOFFSETFROM:-0600
TZOFFSETTO:-0500
TZNAME:CDT
DTSTART:20240310T080000
END:DAYLIGHT
BEGIN:STANDARD
TZOFFSETFROM:-0500
TZOFFSETTO:-0600
TZNAME:CST
DTSTART:20241103T070000
END:STANDARD
BEGIN:DAYLIGHT
TZOFFSETFROM:-0600
TZOFFSETTO:-0500
TZNAME:CDT
DTSTART:20250309T080000
END:DAYLIGHT
BEGIN:STANDARD
TZOFFSETFROM:-0500
TZOFFSETTO:-0600
TZNAME:CST
DTSTART:20251102T070000
END:STANDARD
BEGIN:DAYLIGHT
TZOFFSETFROM:-0600
TZOFFSETTO:-0500
TZNAME:CDT
DTSTART:20260308T080000
END:DAYLIGHT
BEGIN:STANDARD
TZOFFSETFROM:-0500
TZOFFSETTO:-0600
TZNAME:CST
DTSTART:20261101T070000
END:STANDARD
BEGIN:DAYLIGHT
TZOFFSETFROM:-0600
TZOFFSETTO:-0500
TZNAME:CDT
DTSTART:20270314T080000
END:DAYLIGHT
BEGIN:STANDARD
TZOFFSETFROM:-0500
TZOFFSETTO:-0600
TZNAME:CST
DTSTART:20271107T070000
END:STANDARD
END:VTIMEZONE
BEGIN:VEVENT
DTSTART;TZID=America/Chicago:20250918T190000
DTEND;TZID=America/Chicago:20250918T203000
DTSTAMP:20260421T151028
CREATED:20241217T232858Z
LAST-MODIFIED:20250911T212553Z
UID:7516-1758222000-1758227400@plattedems.org
SUMMARY:PCDCC Meeting
DESCRIPTION:The Platte County Democratic Central Committee is holding its September meeting in the Media-North Classroom at Park Hill High School. Arrive at the front door between 6:30 and 7:00 to be let in. Food and drinks are not allowed. The focus of this meeting will be business and planning.
URL:https://plattedems.org/event/pcdcc-meeting-10/
LOCATION:Park Hill High School\, 7701 NW Barry Road\, Kansas City\, Missouri\, 64153\, United States
CATEGORIES:Meeting
ATTACH;FMTTYPE=image/jpeg:https://plattedems.org/wp-content/uploads/2020/03/PCDCC-round-logo-2color-210-x-210.jpg
END:VEVENT
BEGIN:VEVENT
DTSTART;TZID=America/Chicago:20251013T183000
DTEND;TZID=America/Chicago:20251013T193000
DTSTAMP:20260421T151028
CREATED:20241217T230602Z
LAST-MODIFIED:20250924T220534Z
UID:7490-1760380200-1760383800@plattedems.org
SUMMARY:Platte County Democratic Women's Meeting
DESCRIPTION:The Platte County Federated Women’s Democratic Club meets the second Monday of the month. Their mission is to support and elect Democratic candidates and issues. You do not have to be a member to attend.
URL:https://plattedems.org/event/platte-county-democratic-womens-meeting-10/
LOCATION:Missouri
CATEGORIES:Meeting
ATTACH;FMTTYPE=image/jpeg:https://plattedems.org/wp-content/uploads/2024/09/platte-county-federated-womens-democratic-club-logo-1.jpg
END:VEVENT
BEGIN:VEVENT
DTSTART;TZID=America/Chicago:20251016T190000
DTEND;TZID=America/Chicago:20251016T203000
DTSTAMP:20260421T151028
CREATED:20241217T232929Z
LAST-MODIFIED:20250924T202103Z
UID:7518-1760641200-1760646600@plattedems.org
SUMMARY:PCDCC Meeting
DESCRIPTION:The Platte County Democratic Central Committee meets the third Thursday of the month. The group’s mission is to work for the success of the Democratic Party. \n\n\n\nThis month we’ll be voting on the plan presented at the October meeting.
URL:https://plattedems.org/event/pcdcc-meeting-11/
LOCATION:Missouri
CATEGORIES:Meeting
ATTACH;FMTTYPE=image/jpeg:https://plattedems.org/wp-content/uploads/2020/03/PCDCC-round-logo-2color-210-x-210.jpg
END:VEVENT
BEGIN:VEVENT
DTSTART;TZID=America/Chicago:20251021T183000
DTEND;TZID=America/Chicago:20251021T203000
DTSTAMP:20260421T151028
CREATED:20241217T233906Z
LAST-MODIFIED:20250303T222033Z
UID:7540-1761071400-1761078600@plattedems.org
SUMMARY:Northland Democratic Club Meeting
DESCRIPTION:The Northland Democratic Club is a place for Clay and Platte County Democrats to come together to support candidates and issues.
URL:https://plattedems.org/event/northland-democratic-club-meeting-12/
LOCATION:ACA Business Club\, 1400 NW Vivion Road\, Kansas City\, Missouri\, 64118
CATEGORIES:Meeting
ATTACH;FMTTYPE=image/png:https://plattedems.org/wp-content/uploads/2024/04/NDC.png
END:VEVENT
BEGIN:VEVENT
DTSTART;TZID=America/Chicago:20251111T190000
DTEND;TZID=America/Chicago:20251111T200000
DTSTAMP:20260421T151028
CREATED:20241217T234908Z
LAST-MODIFIED:20251111T153028Z
UID:7565-1762887600-1762891200@plattedems.org
SUMMARY:DWC4NPC Meeting
DESCRIPTION:The Democratic Women’s Coalition for Northern Platte County meets the second Tuesday of the month. They are a grassroots organization that supports political awareness by promoting acceptance and equality through education. Open to all.
URL:https://plattedems.org/event/north-platte-democratic-womens-meeting-12/
LOCATION:American Bowman Restaurant\, 500 Welt St\, Weston\, Missouri\, 64098
CATEGORIES:Meeting
ATTACH;FMTTYPE=image/jpeg:https://plattedems.org/wp-content/uploads/2024/12/Democratic-Womens-Coalition-for-Northern-Platte-County.jpg
ORGANIZER;CN="Democratic Women's Coalition for Northern Platte County":MAILTO:dwc4npc@gmail.com
END:VEVENT
BEGIN:VEVENT
DTSTART;TZID=America/Chicago:20251118T183000
DTEND;TZID=America/Chicago:20251118T203000
DTSTAMP:20260421T151029
CREATED:20241217T233945Z
LAST-MODIFIED:20251111T153116Z
UID:7542-1763490600-1763497800@plattedems.org
SUMMARY:Northland Democratic Club Meeting
DESCRIPTION:The Northland Democratic Club is a place for Clay and Platte County Democrats to come together to support candidates and issues.
URL:https://plattedems.org/event/northland-democratic-club-meeting-13/
LOCATION:ACA Business Club\, 1400 NW Vivion Road\, Kansas City\, Missouri\, 64118
CATEGORIES:Meeting
ATTACH;FMTTYPE=image/png:https://plattedems.org/wp-content/uploads/2024/04/NDC.png
END:VEVENT
BEGIN:VEVENT
DTSTART;TZID=America/Chicago:20251120T190000
DTEND;TZID=America/Chicago:20251120T190000
DTSTAMP:20260421T151029
CREATED:20241217T233031Z
LAST-MODIFIED:20251111T151728Z
UID:7520-1763665200-1763665200@plattedems.org
SUMMARY:PCDCC Meeting
DESCRIPTION:Join the Platte County Democrats at our next meeting to learn how to get involved and improve life for people in our county. We have an exciting plan for 2026 and are building our organization to make it happen. For details\, please attend our next meeting.
URL:https://plattedems.org/event/pcdcc-meeting-12/
LOCATION:Missouri
CATEGORIES:Meeting
ATTACH;FMTTYPE=image/png:https://plattedems.org/wp-content/uploads/2024/08/pcdems-logo.png
ORGANIZER;CN="Platte County Democratic Central Committee":MAILTO:dems@plattedems.org
END:VEVENT
BEGIN:VEVENT
DTSTART;TZID=America/Chicago:20260112T183000
DTEND;TZID=America/Chicago:20260112T200000
DTSTAMP:20260421T151029
CREATED:20241217T230659Z
LAST-MODIFIED:20260102T192102Z
UID:7493-1768242600-1768248000@plattedems.org
SUMMARY:Platte County Democratic Women's Meeting
DESCRIPTION:The Platte County Federated Women’s Democratic Club meets the second Monday of the month. Their mission is to support and elect Democratic candidates and issues. All genders welcome.
URL:https://plattedems.org/event/platte-county-democratic-womens-meeting-11/
LOCATION:Missouri
CATEGORIES:Meeting
ATTACH;FMTTYPE=image/png:https://plattedems.org/wp-content/uploads/2024/12/PCDW-Logo-2025-415x415-transparent-bg.png
END:VEVENT
BEGIN:VEVENT
DTSTART;TZID=America/Chicago:20260115T190000
DTEND;TZID=America/Chicago:20260115T210000
DTSTAMP:20260421T151029
CREATED:20260102T181932Z
LAST-MODIFIED:20260102T181934Z
UID:8369-1768503600-1768510800@plattedems.org
SUMMARY:PCDCC Meeting
DESCRIPTION:Join the Platte County Democrats at our next meeting to learn how to get involved and improve life for people in our county. We have an exciting plan for 2026 and are building our organization to make it happen. For details\, please attend our next meeting.
URL:https://plattedems.org/event/pcdcc-meeting-7/
LOCATION:Missouri
CATEGORIES:Meeting
ATTACH;FMTTYPE=image/png:https://plattedems.org/wp-content/uploads/2024/08/pcdems-logo.png
ORGANIZER;CN="Platte County Democratic Central Committee":MAILTO:dems@plattedems.org
END:VEVENT
BEGIN:VEVENT
DTSTART;TZID=America/Chicago:20260209T183000
DTEND;TZID=America/Chicago:20260209T200000
DTSTAMP:20260421T151029
CREATED:20260102T190453Z
LAST-MODIFIED:20260224T151942Z
UID:8397-1770661800-1770667200@plattedems.org
SUMMARY:Platte County Democratic Women's Meeting
DESCRIPTION:The Platte County Federated Women’s Democratic Club meets the second Monday of the month. Their mission is to support and elect Democratic candidates and issues. All genders welcome.
URL:https://plattedems.org/event/platte-county-democratic-womens-meeting-12/
LOCATION:Missouri
CATEGORIES:Meeting
ATTACH;FMTTYPE=image/png:https://plattedems.org/wp-content/uploads/2024/12/PCDW-Logo-2025-415x415-transparent-bg.png
END:VEVENT
BEGIN:VEVENT
DTSTART;TZID=America/Chicago:20260219T190000
DTEND;TZID=America/Chicago:20260219T210000
DTSTAMP:20260421T151029
CREATED:20260102T182237Z
LAST-MODIFIED:20260224T184606Z
UID:8368-1771527600-1771534800@plattedems.org
SUMMARY:PCDCC: February Meeting
DESCRIPTION:Join the Platte County Democrats at our next meeting to learn how to get involved and improve life for people in our county. We have an exciting plan for 2026 and are building our organization to make it happen. For details\, please attend our next meeting.
URL:https://plattedems.org/event/pcdcc-meeting-13/
LOCATION:Missouri
CATEGORIES:Meeting
ATTACH;FMTTYPE=image/png:https://plattedems.org/wp-content/uploads/2024/08/pcdems-logo.png
ORGANIZER;CN="Platte County Democratic Central Committee":MAILTO:dems@plattedems.org
END:VEVENT
BEGIN:VEVENT
DTSTART;TZID=America/Chicago:20260312T183000
DTEND;TZID=America/Chicago:20260312T200000
DTSTAMP:20260421T151029
CREATED:20260306T135744Z
LAST-MODIFIED:20260306T135745Z
UID:8634-1773340200-1773345600@plattedems.org
SUMMARY:Election & Volunteer Team: March 12\, 2026 Meeting
DESCRIPTION:Join the Election and Volunteer Team as we work to elect Democrats locally and at the state and federal levels. There are many ways to volunteer to support local candidates including registering voters\, working at the headquarters and getting out the vote.
URL:https://plattedems.org/event/election-volunteer-team-march-12-2026-meeting/
LOCATION:Mid-Continent Public Library –  Green Hills\, 8581 Green Hills Rd\, Kansas City\, Missouri\, 64154
CATEGORIES:Meeting
END:VEVENT
BEGIN:VEVENT
DTSTART;TZID=America/Chicago:20260319T190000
DTEND;TZID=America/Chicago:20260319T210000
DTSTAMP:20260421T151029
CREATED:20260102T182904Z
LAST-MODIFIED:20260224T185759Z
UID:8367-1773946800-1773954000@plattedems.org
SUMMARY:Platte County Democratic Central Committee: March 2026 Meeting
DESCRIPTION:Join the Platte County Democrats at our next meeting to learn how to get involved and improve life for people in our county. We have an exciting plan for the 2026 Midterm Election. For details\, please attend our next meeting.
URL:https://plattedems.org/event/pcdcc-march-2026-meeting/
LOCATION:Mid-Continent Public Library –  Green Hills\, 8581 Green Hills Rd\, Kansas City\, Missouri\, 64154
CATEGORIES:Meeting
END:VEVENT
BEGIN:VEVENT
DTSTART;TZID=America/Chicago:20260409T183000
DTEND;TZID=America/Chicago:20260409T200000
DTSTAMP:20260421T151029
CREATED:20260323T183357Z
LAST-MODIFIED:20260323T183358Z
UID:8706-1775759400-1775764800@plattedems.org
SUMMARY:Election & Volunteer Team: April 9\, 2026 Meeting
DESCRIPTION:Join the Election and Volunteer Team as we work to elect Democrats locally and at the state and federal levels. There are many ways to volunteer to support local candidates including registering voters\, working at the headquarters and getting out the vote.
URL:https://plattedems.org/event/election-volunteer-team-april-9-2026-meeting/
LOCATION:Mid-Continent Public Library – Platte City\, 2702 NW Prairie View Rd\, Platte City\, Missouri\, 64079
CATEGORIES:Meeting
END:VEVENT
BEGIN:VEVENT
DTSTART;TZID=America/Chicago:20260416T190000
DTEND;TZID=America/Chicago:20260416T210000
DTSTAMP:20260421T151029
CREATED:20260302T165726Z
LAST-MODIFIED:20260302T165845Z
UID:8548-1776366000-1776373200@plattedems.org
SUMMARY:Platte County Democratic Central Committee: April 2026 Meeting
DESCRIPTION:Join the Platte County Democrats at our next meeting to learn how to get involved and improve life for people in our county. We have an exciting plan for the 2026 Midterm Election. For details\, please attend our next meeting.
URL:https://plattedems.org/event/pcdcc-april-2026-meeting/
LOCATION:Mid-Continent Public Library –  Green Hills\, 8581 Green Hills Rd\, Kansas City\, Missouri\, 64154
CATEGORIES:Meeting
ORGANIZER;CN="Platte County Democratic Central Committee":MAILTO:dems@plattedems.org
END:VEVENT
BEGIN:VEVENT
DTSTART;TZID=America/Chicago:20260514T183000
DTEND;TZID=America/Chicago:20260514T200000
DTSTAMP:20260421T151029
CREATED:20260415T200459Z
LAST-MODIFIED:20260415T200500Z
UID:8892-1778783400-1778788800@plattedems.org
SUMMARY:Election & Volunteer Team: May 14\, 2026 Meeting
DESCRIPTION:Join the Election and Volunteer Team as we work to elect Democrats locally and at the state and federal levels. There are many ways to volunteer to support local candidates including registering voters\, working at the headquarters and getting out the vote.
URL:https://plattedems.org/event/election-volunteer-team-may-14-2026-meeting/
LOCATION:Mid-Continent Public Library –  Green Hills\, 8581 Green Hills Rd\, Kansas City\, Missouri\, 64154
CATEGORIES:Meeting
END:VEVENT
BEGIN:VEVENT
DTSTART;TZID=America/Chicago:20260521T190000
DTEND;TZID=America/Chicago:20260521T210000
DTSTAMP:20260421T151029
CREATED:20260408T132538Z
LAST-MODIFIED:20260408T133117Z
UID:8826-1779390000-1779397200@plattedems.org
SUMMARY:Platte County Democratic Central Committee: May 2026 Meeting
DESCRIPTION:Join the Platte County Democrats at our next meeting to learn how to get involved and improve life for people in our county. We have an exciting plan for the 2026 Midterm Election. For details\, please attend our next meeting.
URL:https://plattedems.org/event/pcdcc-may-2026-meeting/
LOCATION:Mid-Continent Public Library –  Green Hills\, 8581 Green Hills Rd\, Kansas City\, Missouri\, 64154
CATEGORIES:Meeting
ORGANIZER;CN="Platte County Democratic Central Committee":MAILTO:dems@plattedems.org
END:VEVENT
END:VCALENDAR