BEGIN:VCALENDAR
VERSION:2.0
PRODID:-//Platte County Dems - ECPv6.15.20//NONSGML v1.0//EN
CALSCALE:GREGORIAN
METHOD:PUBLISH
X-ORIGINAL-URL:https://plattedems.org
X-WR-CALDESC:Events for Platte County Dems
REFRESH-INTERVAL;VALUE=DURATION:PT1H
X-Robots-Tag:noindex
X-PUBLISHED-TTL:PT1H
BEGIN:VTIMEZONE
TZID:America/Chicago
BEGIN:DAYLIGHT
TZOFFSETFROM:-0600
TZOFFSETTO:-0500
TZNAME:CDT
DTSTART:20240310T080000
END:DAYLIGHT
BEGIN:STANDARD
TZOFFSETFROM:-0500
TZOFFSETTO:-0600
TZNAME:CST
DTSTART:20241103T070000
END:STANDARD
BEGIN:DAYLIGHT
TZOFFSETFROM:-0600
TZOFFSETTO:-0500
TZNAME:CDT
DTSTART:20250309T080000
END:DAYLIGHT
BEGIN:STANDARD
TZOFFSETFROM:-0500
TZOFFSETTO:-0600
TZNAME:CST
DTSTART:20251102T070000
END:STANDARD
BEGIN:DAYLIGHT
TZOFFSETFROM:-0600
TZOFFSETTO:-0500
TZNAME:CDT
DTSTART:20260308T080000
END:DAYLIGHT
BEGIN:STANDARD
TZOFFSETFROM:-0500
TZOFFSETTO:-0600
TZNAME:CST
DTSTART:20261101T070000
END:STANDARD
END:VTIMEZONE
BEGIN:VEVENT
DTSTART;TZID=America/Chicago:20251111T190000
DTEND;TZID=America/Chicago:20251111T200000
DTSTAMP:20260419T084446
CREATED:20241217T234908Z
LAST-MODIFIED:20251111T153028Z
UID:7565-1762887600-1762891200@plattedems.org
SUMMARY:DWC4NPC Meeting
DESCRIPTION:The Democratic Women’s Coalition for Northern Platte County meets the second Tuesday of the month. They are a grassroots organization that supports political awareness by promoting acceptance and equality through education. Open to all.
URL:https://plattedems.org/event/north-platte-democratic-womens-meeting-12/
LOCATION:American Bowman Restaurant\, 500 Welt St\, Weston\, Missouri\, 64098
CATEGORIES:Meeting
ATTACH;FMTTYPE=image/jpeg:https://plattedems.org/wp-content/uploads/2024/12/Democratic-Womens-Coalition-for-Northern-Platte-County.jpg
ORGANIZER;CN="Democratic Women's Coalition for Northern Platte County":MAILTO:dwc4npc@gmail.com
END:VEVENT
BEGIN:VEVENT
DTSTART;TZID=America/Chicago:20251118T183000
DTEND;TZID=America/Chicago:20251118T203000
DTSTAMP:20260419T084446
CREATED:20241217T233945Z
LAST-MODIFIED:20251111T153116Z
UID:7542-1763490600-1763497800@plattedems.org
SUMMARY:Northland Democratic Club Meeting
DESCRIPTION:The Northland Democratic Club is a place for Clay and Platte County Democrats to come together to support candidates and issues.
URL:https://plattedems.org/event/northland-democratic-club-meeting-13/
LOCATION:ACA Business Club\, 1400 NW Vivion Road\, Kansas City\, Missouri\, 64118
CATEGORIES:Meeting
ATTACH;FMTTYPE=image/png:https://plattedems.org/wp-content/uploads/2024/04/NDC.png
END:VEVENT
BEGIN:VEVENT
DTSTART;TZID=America/Chicago:20251120T190000
DTEND;TZID=America/Chicago:20251120T190000
DTSTAMP:20260419T084446
CREATED:20241217T233031Z
LAST-MODIFIED:20251111T151728Z
UID:7520-1763665200-1763665200@plattedems.org
SUMMARY:PCDCC Meeting
DESCRIPTION:Join the Platte County Democrats at our next meeting to learn how to get involved and improve life for people in our county. We have an exciting plan for 2026 and are building our organization to make it happen. For details\, please attend our next meeting.
URL:https://plattedems.org/event/pcdcc-meeting-12/
LOCATION:Missouri
CATEGORIES:Meeting
ATTACH;FMTTYPE=image/png:https://plattedems.org/wp-content/uploads/2024/08/pcdems-logo.png
ORGANIZER;CN="Platte County Democratic Central Committee":MAILTO:dems@plattedems.org
END:VEVENT
END:VCALENDAR