BEGIN:VCALENDAR
VERSION:2.0
PRODID:-//Platte County Dems - ECPv6.15.20//NONSGML v1.0//EN
CALSCALE:GREGORIAN
METHOD:PUBLISH
X-WR-CALNAME:Platte County Dems
X-ORIGINAL-URL:https://plattedems.org
X-WR-CALDESC:Events for Platte County Dems
REFRESH-INTERVAL;VALUE=DURATION:PT1H
X-Robots-Tag:noindex
X-PUBLISHED-TTL:PT1H
BEGIN:VTIMEZONE
TZID:America/Chicago
BEGIN:DAYLIGHT
TZOFFSETFROM:-0600
TZOFFSETTO:-0500
TZNAME:CDT
DTSTART:20230312T080000
END:DAYLIGHT
BEGIN:STANDARD
TZOFFSETFROM:-0500
TZOFFSETTO:-0600
TZNAME:CST
DTSTART:20231105T070000
END:STANDARD
BEGIN:DAYLIGHT
TZOFFSETFROM:-0600
TZOFFSETTO:-0500
TZNAME:CDT
DTSTART:20240310T080000
END:DAYLIGHT
BEGIN:STANDARD
TZOFFSETFROM:-0500
TZOFFSETTO:-0600
TZNAME:CST
DTSTART:20241103T070000
END:STANDARD
BEGIN:DAYLIGHT
TZOFFSETFROM:-0600
TZOFFSETTO:-0500
TZNAME:CDT
DTSTART:20250309T080000
END:DAYLIGHT
BEGIN:STANDARD
TZOFFSETFROM:-0500
TZOFFSETTO:-0600
TZNAME:CST
DTSTART:20251102T070000
END:STANDARD
END:VTIMEZONE
BEGIN:VEVENT
DTSTART;TZID=America/Chicago:20240812T183000
DTEND;TZID=America/Chicago:20240812T200000
DTSTAMP:20260421T210717
CREATED:20240805T181618Z
LAST-MODIFIED:20240915T145557Z
UID:4933-1723487400-1723492800@plattedems.org
SUMMARY:Platte County Federated Women’s Democratic Club
DESCRIPTION:  \nMonthly Meeting.  6:30 pm at Election HQ.
URL:https://plattedems.org/event/platte-county-federated-womens-democratic-club-22/
LOCATION:Missouri
CATEGORIES:Meeting
END:VEVENT
BEGIN:VEVENT
DTSTART;TZID=America/Chicago:20240813T190000
DTEND;TZID=America/Chicago:20240813T200000
DTSTAMP:20260421T210717
CREATED:20240811T174102Z
LAST-MODIFIED:20240915T145557Z
UID:4946-1723575600-1723579200@plattedems.org
SUMMARY:Democratic Women’s Coalition for Northern Platte County (North)
DESCRIPTION:Monthly meeting.  407 Main Street\, Weston\, MO. 7:00 p.m
URL:https://plattedems.org/event/democratic-womens-coalition-for-northern-platte-county-north/
LOCATION:Missouri
CATEGORIES:Meeting
END:VEVENT
BEGIN:VEVENT
DTSTART;TZID=America/Chicago:20240815T190000
DTEND;TZID=America/Chicago:20240815T203000
DTSTAMP:20260421T210717
CREATED:20240805T181150Z
LAST-MODIFIED:20240915T145557Z
UID:4929-1723748400-1723753800@plattedems.org
SUMMARY:Platte County Democratic Central Committee
DESCRIPTION:Re-organization and monthly meeting.  7:00 pm at Election HQ.
URL:https://plattedems.org/event/platte-county-democratic-central-committee-7/
LOCATION:Missouri
CATEGORIES:Meeting
END:VEVENT
BEGIN:VEVENT
DTSTART;TZID=America/Chicago:20240820T183000
DTEND;TZID=America/Chicago:20240820T200000
DTSTAMP:20260421T210717
CREATED:20240805T181317Z
LAST-MODIFIED:20240915T145837Z
UID:4931-1724178600-1724184000@plattedems.org
SUMMARY:Northland Democratic Club
DESCRIPTION:Monthly meeting.  6:30 pm social.  7:00 pm meeting.
URL:https://plattedems.org/event/northland-democratic-club-7/
LOCATION:ACA Business Club\, 1400 NW Vivion Road\, Kansas City\, MO\, 64118
CATEGORIES:Meeting
END:VEVENT
END:VCALENDAR