BEGIN:VCALENDAR
VERSION:2.0
PRODID:-//Platte County Dems - ECPv6.15.20//NONSGML v1.0//EN
CALSCALE:GREGORIAN
METHOD:PUBLISH
X-ORIGINAL-URL:https://plattedems.org
X-WR-CALDESC:Events for Platte County Dems
REFRESH-INTERVAL;VALUE=DURATION:PT1H
X-Robots-Tag:noindex
X-PUBLISHED-TTL:PT1H
BEGIN:VTIMEZONE
TZID:America/Chicago
BEGIN:DAYLIGHT
TZOFFSETFROM:-0600
TZOFFSETTO:-0500
TZNAME:CDT
DTSTART:20240310T080000
END:DAYLIGHT
BEGIN:STANDARD
TZOFFSETFROM:-0500
TZOFFSETTO:-0600
TZNAME:CST
DTSTART:20241103T070000
END:STANDARD
BEGIN:DAYLIGHT
TZOFFSETFROM:-0600
TZOFFSETTO:-0500
TZNAME:CDT
DTSTART:20250309T080000
END:DAYLIGHT
BEGIN:STANDARD
TZOFFSETFROM:-0500
TZOFFSETTO:-0600
TZNAME:CST
DTSTART:20251102T070000
END:STANDARD
BEGIN:DAYLIGHT
TZOFFSETFROM:-0600
TZOFFSETTO:-0500
TZNAME:CDT
DTSTART:20260308T080000
END:DAYLIGHT
BEGIN:STANDARD
TZOFFSETFROM:-0500
TZOFFSETTO:-0600
TZNAME:CST
DTSTART:20261101T070000
END:STANDARD
END:VTIMEZONE
BEGIN:VEVENT
DTSTART;TZID=America/Chicago:20250926T173000
DTEND;TZID=America/Chicago:20250926T210000
DTSTAMP:20260421T134237
CREATED:20250820T161025Z
LAST-MODIFIED:20250918T135147Z
UID:8168-1758907800-1758920400@plattedems.org
SUMMARY:Harvest of Hope Community Dinner
DESCRIPTION:The Platte County Democratic Central Committee is excited to inaugurate its Harvest of Hope Community Dinner on Friday\, September 26\, at Weston Bend State Park Bee Creek Shelter in Weston. You can expect an evening of Democratic friendship\, inspiring speakers\, and a delicious buffet! \n\n\n\nspeakers\n\n\n\nJess Piper\, Blue Missouri Executive Director \n\n\n\nAshley Aune\, Missouri House Minority Leader and Representative for MO HD 14 \n\n\n\nPeter Coyne\, Chair of the Platte County Democratic Central Committee \n\n\n\nMenu\n\n\n\nRoasted Pork Loin with a Rosemary Dijon Sauce \n\n\n\nGrilled Boneless Chicken Breast with Artichoke Chardonnay Butter \n\n\n\nHoney Glazed Carrots \n\n\n\nSauteed New Potatoes \n\n\n\nApple Cobbler with Cinnamon Cream \n\n\n\nIced Tea & Water \n\n\n\nHelp Us Kick Off the Midterms!\n\n\n\nThe Harvest of Hope Community Dinner is an important fundraiser for PCDCC. As a result of past successful events\, the Platte County Democrats were able to rent space for the 2024 election season. This space was well utilized! It served as a meeting place for energized Democrats in Platte County\, a volunteer kickoff location\, and a headquarters for Democratic candidates\, among many other election-related activities. Proceeds from this fundraiser will help us do the same in the 2026 Midterm Election. \n\n\n\nCost\n\n\n\nIndividual Tickets are $25 for Adults and $10 for Children.  \n\n\n\nBuy Tickets on actblue
URL:https://plattedems.org/event/harvest-of-hope-community-dinner/
LOCATION:Weston Bend State Park Bee Creek Shelter\, 16600 Hwy 45 N\, Weston\, MO\, 64098\, United States
CATEGORIES:Fundraiser
ATTACH;FMTTYPE=image/jpeg:https://plattedems.org/wp-content/uploads/2025/08/FB_IMG_1755875860997.jpg
ORGANIZER;CN="Platte County Democratic Central Committee":MAILTO:dems@plattedems.org
END:VEVENT
END:VCALENDAR