BEGIN:VCALENDAR
VERSION:2.0
PRODID:-//Platte County Dems - ECPv6.15.20//NONSGML v1.0//EN
CALSCALE:GREGORIAN
METHOD:PUBLISH
X-WR-CALNAME:Platte County Dems
X-ORIGINAL-URL:https://plattedems.org
X-WR-CALDESC:Events for Platte County Dems
REFRESH-INTERVAL;VALUE=DURATION:PT1H
X-Robots-Tag:noindex
X-PUBLISHED-TTL:PT1H
BEGIN:VTIMEZONE
TZID:America/Chicago
BEGIN:DAYLIGHT
TZOFFSETFROM:-0600
TZOFFSETTO:-0500
TZNAME:CDT
DTSTART:20230312T080000
END:DAYLIGHT
BEGIN:STANDARD
TZOFFSETFROM:-0500
TZOFFSETTO:-0600
TZNAME:CST
DTSTART:20231105T070000
END:STANDARD
BEGIN:DAYLIGHT
TZOFFSETFROM:-0600
TZOFFSETTO:-0500
TZNAME:CDT
DTSTART:20240310T080000
END:DAYLIGHT
BEGIN:STANDARD
TZOFFSETFROM:-0500
TZOFFSETTO:-0600
TZNAME:CST
DTSTART:20241103T070000
END:STANDARD
BEGIN:DAYLIGHT
TZOFFSETFROM:-0600
TZOFFSETTO:-0500
TZNAME:CDT
DTSTART:20250309T080000
END:DAYLIGHT
BEGIN:STANDARD
TZOFFSETFROM:-0500
TZOFFSETTO:-0600
TZNAME:CST
DTSTART:20251102T070000
END:STANDARD
END:VTIMEZONE
BEGIN:VEVENT
DTSTART;TZID=America/Chicago:20240924T170000
DTEND;TZID=America/Chicago:20240924T190000
DTSTAMP:20260422T065916
CREATED:20240915T003226Z
LAST-MODIFIED:20240915T003528Z
UID:6623-1727197200-1727204400@plattedems.org
SUMMARY:Jamie Johnson - Meet & Greet Fundraiser
DESCRIPTION:Join us as a bipartisan coalition of hosts come together to endorse and support Jamie Johnson for State Representative. All are welcome to attend!
URL:https://plattedems.org/event/jamie-johnson-meet-greet-fundraiser/
LOCATION:American Legion Post 318\, 11 Main Street\, Parkville\, Missouri\, 64152
CATEGORIES:Candidate Appearance,Fundraiser
ATTACH;FMTTYPE=image/png:https://plattedems.org/wp-content/uploads/2024/09/MeetGreetFundraiserMcCallBest.png
END:VEVENT
END:VCALENDAR