BEGIN:VCALENDAR
VERSION:2.0
PRODID:-//Platte County Dems - ECPv6.15.20//NONSGML v1.0//EN
CALSCALE:GREGORIAN
METHOD:PUBLISH
X-ORIGINAL-URL:https://plattedems.org
X-WR-CALDESC:Events for Platte County Dems
REFRESH-INTERVAL;VALUE=DURATION:PT1H
X-Robots-Tag:noindex
X-PUBLISHED-TTL:PT1H
BEGIN:VTIMEZONE
TZID:America/Chicago
BEGIN:DAYLIGHT
TZOFFSETFROM:-0600
TZOFFSETTO:-0500
TZNAME:CDT
DTSTART:20230312T080000
END:DAYLIGHT
BEGIN:STANDARD
TZOFFSETFROM:-0500
TZOFFSETTO:-0600
TZNAME:CST
DTSTART:20231105T070000
END:STANDARD
BEGIN:DAYLIGHT
TZOFFSETFROM:-0600
TZOFFSETTO:-0500
TZNAME:CDT
DTSTART:20240310T080000
END:DAYLIGHT
BEGIN:STANDARD
TZOFFSETFROM:-0500
TZOFFSETTO:-0600
TZNAME:CST
DTSTART:20241103T070000
END:STANDARD
BEGIN:DAYLIGHT
TZOFFSETFROM:-0600
TZOFFSETTO:-0500
TZNAME:CDT
DTSTART:20250309T080000
END:DAYLIGHT
BEGIN:STANDARD
TZOFFSETFROM:-0500
TZOFFSETTO:-0600
TZNAME:CST
DTSTART:20251102T070000
END:STANDARD
END:VTIMEZONE
BEGIN:VEVENT
DTSTART;TZID=America/Chicago:20240910T200000
DTEND;TZID=America/Chicago:20240910T213000
DTSTAMP:20260422T061312
CREATED:20240904T013040Z
LAST-MODIFIED:20240909T214013Z
UID:5887-1725998400-1726003800@plattedems.org
SUMMARY:Presidential Debate Watch Party
DESCRIPTION:Join us at HQ to cheer on Vice President Kamala Harris as she debates Donald Trump in Philadelphia at the National Constitution Center. The debate will air on ABC and stream on ABC News Live\, Disney+ and Hulu. “World News Tonight” anchor David Muir and ABC News Live “Prime” anchor Linsey Davis will serve as moderators. Doors open at 7:30 pm. Bring your own drinks and snacks. Open to all.
URL:https://plattedems.org/event/presidential-debate/
LOCATION:Platte County Democrats HQ\, 10012 Ambassador Drive\, Kansas City\, Missouri\, 64153
CATEGORIES:Celebration
ATTACH;FMTTYPE=image/jpeg:https://plattedems.org/wp-content/uploads/2024/09/pres-debate-on-abc.jpg
END:VEVENT
BEGIN:VEVENT
DTSTART;TZID=America/Chicago:20240914T190000
DTEND;TZID=America/Chicago:20240914T220000
DTSTAMP:20260422T061312
CREATED:20240907T014911Z
LAST-MODIFIED:20240907T015043Z
UID:6129-1726340400-1726351200@plattedems.org
SUMMARY:MO Democratic Party - Annual Truman Dinner in St. Louis
DESCRIPTION:Join the Missouri Democrats as we celebrate the Truman Dinner’s 11th year. Don’t miss this one-of-a-kind opportunity to connect with fellow Missouri Democrats and special guests from across the country! Reserve your spot today to join us for an evening of networking and celebration – including celebrity speakers and a VIP reception with special guests and speakers! \n\n\n\nVIP Reception @ 5:30 pm (not included in general admission) \n\n\n\nDinner @ 7:00 pm.
URL:https://plattedems.org/event/mo-democratic-party-annual-truman-dinner-in-st-louis/
LOCATION:The Marriott Grand St. Louis\, 800 Washington Avenue\, St. Louis\, MO\, 63101
CATEGORIES:Celebration
ATTACH;FMTTYPE=image/png:https://plattedems.org/wp-content/uploads/2024/09/truman-dinner-banner-scaled.png
END:VEVENT
END:VCALENDAR