BEGIN:VCALENDAR
VERSION:2.0
PRODID:-//Platte County Dems - ECPv6.15.20//NONSGML v1.0//EN
CALSCALE:GREGORIAN
METHOD:PUBLISH
X-WR-CALNAME:Platte County Dems
X-ORIGINAL-URL:https://plattedems.org
X-WR-CALDESC:Events for Platte County Dems
REFRESH-INTERVAL;VALUE=DURATION:PT1H
X-Robots-Tag:noindex
X-PUBLISHED-TTL:PT1H
BEGIN:VTIMEZONE
TZID:America/Chicago
BEGIN:DAYLIGHT
TZOFFSETFROM:-0600
TZOFFSETTO:-0500
TZNAME:CDT
DTSTART:20230312T080000
END:DAYLIGHT
BEGIN:STANDARD
TZOFFSETFROM:-0500
TZOFFSETTO:-0600
TZNAME:CST
DTSTART:20231105T070000
END:STANDARD
BEGIN:DAYLIGHT
TZOFFSETFROM:-0600
TZOFFSETTO:-0500
TZNAME:CDT
DTSTART:20240310T080000
END:DAYLIGHT
BEGIN:STANDARD
TZOFFSETFROM:-0500
TZOFFSETTO:-0600
TZNAME:CST
DTSTART:20241103T070000
END:STANDARD
BEGIN:DAYLIGHT
TZOFFSETFROM:-0600
TZOFFSETTO:-0500
TZNAME:CDT
DTSTART:20250309T080000
END:DAYLIGHT
BEGIN:STANDARD
TZOFFSETFROM:-0500
TZOFFSETTO:-0600
TZNAME:CST
DTSTART:20251102T070000
END:STANDARD
END:VTIMEZONE
BEGIN:VEVENT
DTSTART;TZID=America/Chicago:20240609T080000
DTEND;TZID=America/Chicago:20240609T170000
DTSTAMP:20260422T100520
CREATED:20240307T220415Z
LAST-MODIFIED:20240507T203959Z
UID:4724-1717920000-1717952400@plattedems.org
SUMMARY:Music and Mimosas 2024
DESCRIPTION:Argosy Casino\, 777 NW Argosy Casino Pkwy.  Tickets are available.  Details
URL:https://plattedems.org/event/music-and-mimosas-2024/
LOCATION:MO
CATEGORIES:Celebration
END:VEVENT
END:VCALENDAR